BEGIN:VCALENDAR
VERSION:2.0
PRODID:-//Kiddieland Educational Center of Excellence - ECPv6.15.20//NONSGML v1.0//EN
CALSCALE:GREGORIAN
METHOD:PUBLISH
X-WR-CALNAME:Kiddieland Educational Center of Excellence
X-ORIGINAL-URL:https://kiddielandece.com
X-WR-CALDESC:Events for Kiddieland Educational Center of Excellence
REFRESH-INTERVAL;VALUE=DURATION:PT1H
X-Robots-Tag:noindex
X-PUBLISHED-TTL:PT1H
BEGIN:VTIMEZONE
TZID:America/Denver
BEGIN:DAYLIGHT
TZOFFSETFROM:-0700
TZOFFSETTO:-0600
TZNAME:MDT
DTSTART:20240310T090000
END:DAYLIGHT
BEGIN:STANDARD
TZOFFSETFROM:-0600
TZOFFSETTO:-0700
TZNAME:MST
DTSTART:20241103T080000
END:STANDARD
BEGIN:DAYLIGHT
TZOFFSETFROM:-0700
TZOFFSETTO:-0600
TZNAME:MDT
DTSTART:20250309T090000
END:DAYLIGHT
BEGIN:STANDARD
TZOFFSETFROM:-0600
TZOFFSETTO:-0700
TZNAME:MST
DTSTART:20251102T080000
END:STANDARD
BEGIN:DAYLIGHT
TZOFFSETFROM:-0700
TZOFFSETTO:-0600
TZNAME:MDT
DTSTART:20260308T090000
END:DAYLIGHT
BEGIN:STANDARD
TZOFFSETFROM:-0600
TZOFFSETTO:-0700
TZNAME:MST
DTSTART:20261101T080000
END:STANDARD
BEGIN:DAYLIGHT
TZOFFSETFROM:-0700
TZOFFSETTO:-0600
TZNAME:MDT
DTSTART:20270314T090000
END:DAYLIGHT
BEGIN:STANDARD
TZOFFSETFROM:-0600
TZOFFSETTO:-0700
TZNAME:MST
DTSTART:20271107T080000
END:STANDARD
END:VTIMEZONE
BEGIN:VEVENT
DTSTART;TZID=America/Denver:20250905T093000
DTEND;TZID=America/Denver:20250905T133000
DTSTAMP:20260420T235626
CREATED:20250917T215254Z
LAST-MODIFIED:20250917T215254Z
UID:10000019-1757064600-1757079000@kiddielandece.com
SUMMARY:Back-to-School Carnival & Open House
DESCRIPTION:Kick off the new school year with us at our Back-to-School Open House & Carnival! Families are invited to tour the classrooms\, meet the teachers\, and see the exciting spaces prepared for the year ahead. \nAfter visiting classrooms\, enjoy a fun-filled carnival with food\, treats\, a bubble station\, and activities for the whole family. It’s the perfect way to celebrate the start of a great school year together!
URL:https://kiddielandece.com/event/back-to-school-carnival-open-house/
END:VEVENT
BEGIN:VEVENT
DTSTART;TZID=America/Denver:20251017T160000
DTEND;TZID=America/Denver:20251017T170000
DTSTAMP:20260420T235626
CREATED:20250917T213300Z
LAST-MODIFIED:20250917T213629Z
UID:10000013-1760716800-1760720400@kiddielandece.com
SUMMARY:Fall Parent-Child Activity
DESCRIPTION:Parents are invited to join their child’s classroom for a special activity!This is a wonderful opportunity for you to: \n\n\nSpend time with your child in their everyday classroom setting \n\n\nParticipate in a fun activity together \n\n\nConnect and mingle with other families in the class \n\n\nWe look forward to sharing this experience with you!
URL:https://kiddielandece.com/event/fall-parent-child-activity/
LOCATION:Kiddieland Educational Center\, 3809 N Cicero Ave\, Chicago\, IL\, 60641\, United States
END:VEVENT
BEGIN:VEVENT
DTSTART;TZID=America/Denver:20251031T093000
DTEND;TZID=America/Denver:20251031T223000
DTSTAMP:20260420T235626
CREATED:20250917T213539Z
LAST-MODIFIED:20250917T215731Z
UID:10000014-1761903000-1761949800@kiddielandece.com
SUMMARY:Halloween Celebration Parade
DESCRIPTION:Children are welcome to bring their costumes and enjoy trick-or-treating throughout the center!  Please note that face-covering masks\, toy guns\, and toy knives are not allowed as part of costumes. \nEach classroom will also host a Halloween party. Families may send treats to share\, but all items must be store-bought and peanut-free to ensure the safety of all children.
URL:https://kiddielandece.com/event/halloween-celebration-parade/
END:VEVENT
BEGIN:VEVENT
DTSTART;TZID=America/Denver:20251107T150000
DTEND;TZID=America/Denver:20251107T180000
DTSTAMP:20260420T235626
CREATED:20250917T214704Z
LAST-MODIFIED:20250917T214704Z
UID:10000018-1762527600-1762538400@kiddielandece.com
SUMMARY:Parent-Teacher Conferences
DESCRIPTION:We look forward to meeting with families during our Parent-Teacher Conferences! This is a valuable opportunity to discuss your child’s progress\, growth\, and goals for the school year. \nPlease note: Early dismissal is at 2:30 PM for all children on this day.
URL:https://kiddielandece.com/event/parent-teacher-conferences/
END:VEVENT
BEGIN:VEVENT
DTSTART;TZID=America/Denver:20251121T160000
DTEND;TZID=America/Denver:20251121T173000
DTSTAMP:20260420T235626
CREATED:20250917T214114Z
LAST-MODIFIED:20250917T214114Z
UID:10000015-1763740800-1763746200@kiddielandece.com
SUMMARY:Literacy Night & Art Fair
DESCRIPTION:Join us for our annual Literacy Night and Art Fair! This special evening features the final day of our Scholastic Book Fair\, where families can shop for books and help support our classrooms. Parents are also invited to view the incredible art pieces created by the children and purchase keepsake activities made by them. \nAll proceeds from the Book Fair and Art Fair go directly back to the classrooms: \n\n\nBook Fair: Scholastic donates a percentage of sales for teachers to purchase new books. \n\n\nArt Fair: Funds from art sales will help teachers buy materials of their choice for classroom needs. \n\n\nCome celebrate our children’s creativity while supporting their learning!
URL:https://kiddielandece.com/event/literacy-night-art-fair/
END:VEVENT
BEGIN:VEVENT
DTSTART;TZID=America/Denver:20251126T110000
DTEND;TZID=America/Denver:20251126T233000
DTSTAMP:20260420T235626
CREATED:20250917T214309Z
LAST-MODIFIED:20250917T214309Z
UID:10000016-1764154800-1764199800@kiddielandece.com
SUMMARY:Thanksgiving Feast
DESCRIPTION:We invite all children to join us for our annual Thanksgiving Feast before the holiday break! Each classroom will be assigned a special dish to share\, and together we will enjoy a school-wide meal celebrating friendship\, gratitude\, and community. \nThis festive lunch is a wonderful way for the children to come together and give thanks before the holiday.
URL:https://kiddielandece.com/event/thanksgiving-feast/
END:VEVENT
BEGIN:VEVENT
DTSTART;VALUE=DATE:20251127
DTEND;VALUE=DATE:20251129
DTSTAMP:20260420T235626
CREATED:20250917T214502Z
LAST-MODIFIED:20250917T214517Z
UID:10000017-1764201600-1764374399@kiddielandece.com
SUMMARY:Center Closed - Thanksgiving Break
DESCRIPTION:The center will be closed on Thursday\, November 27th and Friday\, November 28th in observance of the Thanksgiving holiday. We wish all our families a safe and happy holiday break\, and we will resume normal hours on Monday\, December 1st. 
URL:https://kiddielandece.com/event/center-closed-thanksgiving-break/
END:VEVENT
BEGIN:VEVENT
DTSTART;VALUE=DATE:20251224
DTEND;VALUE=DATE:20260103
DTSTAMP:20260420T235626
CREATED:20250917T215630Z
LAST-MODIFIED:20250917T215630Z
UID:10000020-1766534400-1767398399@kiddielandece.com
SUMMARY:Winter Break – Center Closed
DESCRIPTION:The center will be closed for Winter Break from Wednesday\, December 24\, through Thursday\, January 2. We wish all our families a joyful holiday season and a Happy New Year! Regular hours will resume on Monday\, January 5.
URL:https://kiddielandece.com/event/winter-break-center-closed/
END:VEVENT
END:VCALENDAR